BEGIN:VCALENDAR
VERSION:2.0
PRODID:-//Copeland Group USA - ECPv6.15.20//NONSGML v1.0//EN
CALSCALE:GREGORIAN
METHOD:PUBLISH
X-ORIGINAL-URL:https://copelandgroupusa.com
X-WR-CALDESC:Events for Copeland Group USA
REFRESH-INTERVAL;VALUE=DURATION:PT1H
X-Robots-Tag:noindex
X-PUBLISHED-TTL:PT1H
BEGIN:VTIMEZONE
TZID:America/Los_Angeles
BEGIN:DAYLIGHT
TZOFFSETFROM:-0800
TZOFFSETTO:-0700
TZNAME:PDT
DTSTART:20240310T100000
END:DAYLIGHT
BEGIN:STANDARD
TZOFFSETFROM:-0700
TZOFFSETTO:-0800
TZNAME:PST
DTSTART:20241103T090000
END:STANDARD
BEGIN:DAYLIGHT
TZOFFSETFROM:-0800
TZOFFSETTO:-0700
TZNAME:PDT
DTSTART:20250309T100000
END:DAYLIGHT
BEGIN:STANDARD
TZOFFSETFROM:-0700
TZOFFSETTO:-0800
TZNAME:PST
DTSTART:20251102T090000
END:STANDARD
BEGIN:DAYLIGHT
TZOFFSETFROM:-0800
TZOFFSETTO:-0700
TZNAME:PDT
DTSTART:20260308T100000
END:DAYLIGHT
BEGIN:STANDARD
TZOFFSETFROM:-0700
TZOFFSETTO:-0800
TZNAME:PST
DTSTART:20261101T090000
END:STANDARD
END:VTIMEZONE
BEGIN:VTIMEZONE
TZID:America/Denver
BEGIN:DAYLIGHT
TZOFFSETFROM:-0700
TZOFFSETTO:-0600
TZNAME:MDT
DTSTART:20240310T090000
END:DAYLIGHT
BEGIN:STANDARD
TZOFFSETFROM:-0600
TZOFFSETTO:-0700
TZNAME:MST
DTSTART:20241103T080000
END:STANDARD
BEGIN:DAYLIGHT
TZOFFSETFROM:-0700
TZOFFSETTO:-0600
TZNAME:MDT
DTSTART:20250309T090000
END:DAYLIGHT
BEGIN:STANDARD
TZOFFSETFROM:-0600
TZOFFSETTO:-0700
TZNAME:MST
DTSTART:20251102T080000
END:STANDARD
BEGIN:DAYLIGHT
TZOFFSETFROM:-0700
TZOFFSETTO:-0600
TZNAME:MDT
DTSTART:20260308T090000
END:DAYLIGHT
BEGIN:STANDARD
TZOFFSETFROM:-0600
TZOFFSETTO:-0700
TZNAME:MST
DTSTART:20261101T080000
END:STANDARD
END:VTIMEZONE
BEGIN:VEVENT
DTSTART;TZID=America/Los_Angeles:20251107T090000
DTEND;TZID=America/Los_Angeles:20251107T100000
DTSTAMP:20260421T142210
CREATED:20251016T190244Z
LAST-MODIFIED:20251016T190244Z
UID:1795-1762506000-1762509600@copelandgroupusa.com
SUMMARY:First Friday Broker Meeting
DESCRIPTION:We will discuss informative updates in the industry\, carrier announcements\, marketing\, and technology enhancements. We should see some trends developing and be able to address any challenges. It’s a busy time of year! We get it! However\, this hour spent will be well worth it so put on your calendar to receive updates monthly!
URL:https://copelandgroupusa.com/event/first-friday-broker-meeting/
LOCATION:Webinar
CATEGORIES:Webinars
ORGANIZER;CN="Jan Walsh%2C Regional VP":MAILTO:JWalsh@Copelandgroupusa.com
END:VEVENT
BEGIN:VEVENT
DTSTART;TZID=America/Denver:20251112T110000
DTEND;TZID=America/Denver:20251112T120000
DTSTAMP:20260421T142210
CREATED:20251016T191319Z
LAST-MODIFIED:20251016T191319Z
UID:1801-1762945200-1762948800@copelandgroupusa.com
SUMMARY:AEP Half Time Huddle
DESCRIPTION:The Sales Directors will share insights to their markets and spend most of the time taking questions.
URL:https://copelandgroupusa.com/event/aep-half-time-huddle/
LOCATION:Webinar
CATEGORIES:Webinars
ORGANIZER;CN="Stephanie Hughes%2C Sales Director":MAILTO:shughes@copelandgroupusa.com
END:VEVENT
END:VCALENDAR