BEGIN:VCALENDAR
VERSION:2.0
PRODID:-//Copeland Group USA - ECPv6.15.20//NONSGML v1.0//EN
CALSCALE:GREGORIAN
METHOD:PUBLISH
X-WR-CALNAME:Copeland Group USA
X-ORIGINAL-URL:https://copelandgroupusa.com
X-WR-CALDESC:Events for Copeland Group USA
REFRESH-INTERVAL;VALUE=DURATION:PT1H
X-Robots-Tag:noindex
X-PUBLISHED-TTL:PT1H
BEGIN:VTIMEZONE
TZID:America/Los_Angeles
BEGIN:DAYLIGHT
TZOFFSETFROM:-0800
TZOFFSETTO:-0700
TZNAME:PDT
DTSTART:20240310T100000
END:DAYLIGHT
BEGIN:STANDARD
TZOFFSETFROM:-0700
TZOFFSETTO:-0800
TZNAME:PST
DTSTART:20241103T090000
END:STANDARD
BEGIN:DAYLIGHT
TZOFFSETFROM:-0800
TZOFFSETTO:-0700
TZNAME:PDT
DTSTART:20250309T100000
END:DAYLIGHT
BEGIN:STANDARD
TZOFFSETFROM:-0700
TZOFFSETTO:-0800
TZNAME:PST
DTSTART:20251102T090000
END:STANDARD
BEGIN:DAYLIGHT
TZOFFSETFROM:-0800
TZOFFSETTO:-0700
TZNAME:PDT
DTSTART:20260308T100000
END:DAYLIGHT
BEGIN:STANDARD
TZOFFSETFROM:-0700
TZOFFSETTO:-0800
TZNAME:PST
DTSTART:20261101T090000
END:STANDARD
END:VTIMEZONE
BEGIN:VTIMEZONE
TZID:America/Denver
BEGIN:DAYLIGHT
TZOFFSETFROM:-0700
TZOFFSETTO:-0600
TZNAME:MDT
DTSTART:20240310T090000
END:DAYLIGHT
BEGIN:STANDARD
TZOFFSETFROM:-0600
TZOFFSETTO:-0700
TZNAME:MST
DTSTART:20241103T080000
END:STANDARD
BEGIN:DAYLIGHT
TZOFFSETFROM:-0700
TZOFFSETTO:-0600
TZNAME:MDT
DTSTART:20250309T090000
END:DAYLIGHT
BEGIN:STANDARD
TZOFFSETFROM:-0600
TZOFFSETTO:-0700
TZNAME:MST
DTSTART:20251102T080000
END:STANDARD
BEGIN:DAYLIGHT
TZOFFSETFROM:-0700
TZOFFSETTO:-0600
TZNAME:MDT
DTSTART:20260308T090000
END:DAYLIGHT
BEGIN:STANDARD
TZOFFSETFROM:-0600
TZOFFSETTO:-0700
TZNAME:MST
DTSTART:20261101T080000
END:STANDARD
END:VTIMEZONE
BEGIN:VEVENT
DTSTART;TZID=America/Los_Angeles:20250218T130000
DTEND;TZID=America/Los_Angeles:20250218T153000
DTSTAMP:20260422T155148
CREATED:20250205T180050Z
LAST-MODIFIED:20250205T180438Z
UID:1021-1739883600-1739892600@copelandgroupusa.com
SUMMARY:Increase Your Business for 2025!
DESCRIPTION:
URL:https://copelandgroupusa.com/event/increase-your-business-for-2025-this-event-is-for-licensed-sales-agents-only/
LOCATION:Spring Valley Centerwell\, 4001 S Decatur BLVD\, Las Vegas\, NV\, 89103\, United States
CATEGORIES:Training Events
ORGANIZER;CN="Joey Brignac%2C Sales Director":MAILTO:Jbrignac@copelandgroupusa.com
END:VEVENT
BEGIN:VEVENT
DTSTART;TZID=America/Denver:20250217T100000
DTEND;TZID=America/Denver:20250217T123000
DTSTAMP:20260422T155148
CREATED:20250205T175543Z
LAST-MODIFIED:20250205T180448Z
UID:1016-1739786400-1739795400@copelandgroupusa.com
SUMMARY:Increase Your Business for 2025!
DESCRIPTION:
URL:https://copelandgroupusa.com/event/increase-your-business-for-2025-this-event-is-for-licensed-agents-only/
LOCATION:Spring Valley Centerwell\, 4001 S Decatur BLVD\, Las Vegas\, NV\, 89103\, United States
CATEGORIES:Training Events
ORGANIZER;CN="Joey Brignac%2C Sales Director":MAILTO:Jbrignac@copelandgroupusa.com
END:VEVENT
END:VCALENDAR