BEGIN:VCALENDAR
VERSION:2.0
PRODID:-//Copeland Group USA - ECPv6.15.20//NONSGML v1.0//EN
CALSCALE:GREGORIAN
METHOD:PUBLISH
X-WR-CALNAME:Copeland Group USA
X-ORIGINAL-URL:https://copelandgroupusa.com
X-WR-CALDESC:Events for Copeland Group USA
REFRESH-INTERVAL;VALUE=DURATION:PT1H
X-Robots-Tag:noindex
X-PUBLISHED-TTL:PT1H
BEGIN:VTIMEZONE
TZID:America/Detroit
BEGIN:DAYLIGHT
TZOFFSETFROM:-0500
TZOFFSETTO:-0400
TZNAME:EDT
DTSTART:20250309T070000
END:DAYLIGHT
BEGIN:STANDARD
TZOFFSETFROM:-0400
TZOFFSETTO:-0500
TZNAME:EST
DTSTART:20251102T060000
END:STANDARD
BEGIN:DAYLIGHT
TZOFFSETFROM:-0500
TZOFFSETTO:-0400
TZNAME:EDT
DTSTART:20260308T070000
END:DAYLIGHT
BEGIN:STANDARD
TZOFFSETFROM:-0400
TZOFFSETTO:-0500
TZNAME:EST
DTSTART:20261101T060000
END:STANDARD
BEGIN:DAYLIGHT
TZOFFSETFROM:-0500
TZOFFSETTO:-0400
TZNAME:EDT
DTSTART:20270314T070000
END:DAYLIGHT
BEGIN:STANDARD
TZOFFSETFROM:-0400
TZOFFSETTO:-0500
TZNAME:EST
DTSTART:20271107T060000
END:STANDARD
END:VTIMEZONE
BEGIN:VEVENT
DTSTART;TZID=America/Detroit:20260401T100000
DTEND;TZID=America/Detroit:20260401T110000
DTSTAMP:20260421T132202
CREATED:20260325T133509Z
LAST-MODIFIED:20260325T133542Z
UID:2265-1775037600-1775041200@copelandgroupusa.com
SUMMARY:AI for Insurance Agents
DESCRIPTION:Free Training: Get Ahead with AI \n-Work more efficiently \n-Create 30 days of content in minutes \n-Let AI think with you \n-Build Systems
URL:https://copelandgroupusa.com/event/ai-for-insurance-agents/
LOCATION:Webinar
CATEGORIES:Training Events,Webinars
ORGANIZER;CN="Rob Warnock%2C Sales Director":MAILTO:Rob@copelandgroupusa.com
END:VEVENT
END:VCALENDAR