BEGIN:VCALENDAR
VERSION:2.0
PRODID:-//Copeland Group USA - ECPv6.15.20//NONSGML v1.0//EN
CALSCALE:GREGORIAN
METHOD:PUBLISH
X-WR-CALNAME:Copeland Group USA
X-ORIGINAL-URL:https://copelandgroupusa.com
X-WR-CALDESC:Events for Copeland Group USA
REFRESH-INTERVAL;VALUE=DURATION:PT1H
X-Robots-Tag:noindex
X-PUBLISHED-TTL:PT1H
BEGIN:VTIMEZONE
TZID:America/Chicago
BEGIN:DAYLIGHT
TZOFFSETFROM:-0600
TZOFFSETTO:-0500
TZNAME:CDT
DTSTART:20250309T080000
END:DAYLIGHT
BEGIN:STANDARD
TZOFFSETFROM:-0500
TZOFFSETTO:-0600
TZNAME:CST
DTSTART:20251102T070000
END:STANDARD
BEGIN:DAYLIGHT
TZOFFSETFROM:-0600
TZOFFSETTO:-0500
TZNAME:CDT
DTSTART:20260308T080000
END:DAYLIGHT
BEGIN:STANDARD
TZOFFSETFROM:-0500
TZOFFSETTO:-0600
TZNAME:CST
DTSTART:20261101T070000
END:STANDARD
BEGIN:DAYLIGHT
TZOFFSETFROM:-0600
TZOFFSETTO:-0500
TZNAME:CDT
DTSTART:20270314T080000
END:DAYLIGHT
BEGIN:STANDARD
TZOFFSETFROM:-0500
TZOFFSETTO:-0600
TZNAME:CST
DTSTART:20271107T070000
END:STANDARD
END:VTIMEZONE
BEGIN:VTIMEZONE
TZID:America/Detroit
BEGIN:DAYLIGHT
TZOFFSETFROM:-0500
TZOFFSETTO:-0400
TZNAME:EDT
DTSTART:20250309T070000
END:DAYLIGHT
BEGIN:STANDARD
TZOFFSETFROM:-0400
TZOFFSETTO:-0500
TZNAME:EST
DTSTART:20251102T060000
END:STANDARD
BEGIN:DAYLIGHT
TZOFFSETFROM:-0500
TZOFFSETTO:-0400
TZNAME:EDT
DTSTART:20260308T070000
END:DAYLIGHT
BEGIN:STANDARD
TZOFFSETFROM:-0400
TZOFFSETTO:-0500
TZNAME:EST
DTSTART:20261101T060000
END:STANDARD
BEGIN:DAYLIGHT
TZOFFSETFROM:-0500
TZOFFSETTO:-0400
TZNAME:EDT
DTSTART:20270314T070000
END:DAYLIGHT
BEGIN:STANDARD
TZOFFSETFROM:-0400
TZOFFSETTO:-0500
TZNAME:EST
DTSTART:20271107T060000
END:STANDARD
END:VTIMEZONE
BEGIN:VEVENT
DTSTART;TZID=America/Chicago:20260305T110000
DTEND;TZID=America/Chicago:20260305T113000
DTSTAMP:20260421T142704
CREATED:20260226T175715Z
LAST-MODIFIED:20260226T175715Z
UID:2201-1772708400-1772710200@copelandgroupusa.com
SUMMARY:New Agent Training_NV\, UT\, CO\, ID\, MT\, WY
DESCRIPTION:Hit the Ground Running! Join us for a quick introduction into your amazing opportunity with CIG\, your FMO that TRULY values you as an Agent!\nWe will discuss:\n-Getting to know your Copeland Team\n-Contracting Process\n-Free access to the marketing tools\n-Your All-in-one customer management & quoting system\n-Your free personal consumer facing website\n-Schedule your free business training session \n9am PST\n11am CST
URL:https://copelandgroupusa.com/event/new-agent-training_nv-ut-co-id-mt-wy-4/
LOCATION:Webinar
CATEGORIES:Training Events,Webinars
ORGANIZER;CN="Joey Brignac%2C Sales Director":MAILTO:Jbrignac@copelandgroupusa.com
END:VEVENT
BEGIN:VEVENT
DTSTART;TZID=America/Detroit:20260305T130000
DTEND;TZID=America/Detroit:20260305T140000
DTSTAMP:20260421T142704
CREATED:20260226T174950Z
LAST-MODIFIED:20260226T174950Z
UID:2195-1772715600-1772719200@copelandgroupusa.com
SUMMARY:Hide | Fide Deep Dive Training with Molina
DESCRIPTION:Learn how to confidently serve one of Medicare’s most vulnerable populations. \nNavigating HIDE and FIDE health plans requires specialized knowledge—and brokers who understand these plans play a critical role in helping members access the care and services they need. \nJoin Eric Smith\, Sr. Account Manager – National Medicare Distribution with Molina Healthcare\, for an in-depth training designed to equip brokers with the insight and tools needed to market\, enroll\, and service this complex population with confidence. \nWhat You’ll Learn: \n\nThe fundamentals of HIDE & FIDE health plans\nBest practices for reviewing options and guiding enrollment\nKey service considerations when working with a vulnerable population\nHow knowledgeable brokers can make a meaningful impact\n\nThis training is ideal for brokers who want to: \n\nDifferentiate themselves through deeper Medicare expertise\nBetter serve members with complex healthcare needs\nStrengthen their confidence in consultative conversations\n\nThursday\, March 5th\n1:00 PM EST\n12:00 PM CST
URL:https://copelandgroupusa.com/event/hide-fide-deep-dive-training-with-molina/
LOCATION:Webinar
CATEGORIES:Training Events,Webinars
END:VEVENT
END:VCALENDAR