BEGIN:VCALENDAR
VERSION:2.0
PRODID:-//Copeland Group USA - ECPv6.15.20//NONSGML v1.0//EN
CALSCALE:GREGORIAN
METHOD:PUBLISH
X-WR-CALNAME:Copeland Group USA
X-ORIGINAL-URL:https://copelandgroupusa.com
X-WR-CALDESC:Events for Copeland Group USA
REFRESH-INTERVAL;VALUE=DURATION:PT1H
X-Robots-Tag:noindex
X-PUBLISHED-TTL:PT1H
BEGIN:VTIMEZONE
TZID:America/Chicago
BEGIN:DAYLIGHT
TZOFFSETFROM:-0600
TZOFFSETTO:-0500
TZNAME:CDT
DTSTART:20250309T080000
END:DAYLIGHT
BEGIN:STANDARD
TZOFFSETFROM:-0500
TZOFFSETTO:-0600
TZNAME:CST
DTSTART:20251102T070000
END:STANDARD
BEGIN:DAYLIGHT
TZOFFSETFROM:-0600
TZOFFSETTO:-0500
TZNAME:CDT
DTSTART:20260308T080000
END:DAYLIGHT
BEGIN:STANDARD
TZOFFSETFROM:-0500
TZOFFSETTO:-0600
TZNAME:CST
DTSTART:20261101T070000
END:STANDARD
BEGIN:DAYLIGHT
TZOFFSETFROM:-0600
TZOFFSETTO:-0500
TZNAME:CDT
DTSTART:20270314T080000
END:DAYLIGHT
BEGIN:STANDARD
TZOFFSETFROM:-0500
TZOFFSETTO:-0600
TZNAME:CST
DTSTART:20271107T070000
END:STANDARD
END:VTIMEZONE
BEGIN:VEVENT
DTSTART;TZID=America/Chicago:20260304T100000
DTEND;TZID=America/Chicago:20260304T130000
DTSTAMP:20260421T144734
CREATED:20260202T172413Z
LAST-MODIFIED:20260213T194731Z
UID:2079-1772618400-1772629200@copelandgroupusa.com
SUMMARY:Annuity Boot Camp 101
DESCRIPTION:Join us to learn how to market and sell annuities with Copeland Insurance Group\, an Integrity Company! \nLearn the simple steps to adding annuities to your portfolio with annuity carriers and our annuity back office-support. \nLimited seats available\, reserve yours today! \nAnnuities 101 Boot Camp\nLunch provided\nDate – Wednesday\, March 4th\nTime – 10am – 1pm CST
URL:https://copelandgroupusa.com/event/annuity-boot-camp-101/
LOCATION:San Antonio\, TX\, TX\, United States
CATEGORIES:Training Events,Webinars
ORGANIZER;CN="Javier Bermudez%2C Sales Director":MAILTO:Jbermudez@copelandgroupusa.com
END:VEVENT
END:VCALENDAR