BEGIN:VCALENDAR
VERSION:2.0
PRODID:-//Copeland Group USA - ECPv6.15.20//NONSGML v1.0//EN
CALSCALE:GREGORIAN
METHOD:PUBLISH
X-ORIGINAL-URL:https://copelandgroupusa.com
X-WR-CALDESC:Events for Copeland Group USA
REFRESH-INTERVAL;VALUE=DURATION:PT1H
X-Robots-Tag:noindex
X-PUBLISHED-TTL:PT1H
BEGIN:VTIMEZONE
TZID:America/Chicago
BEGIN:DAYLIGHT
TZOFFSETFROM:-0600
TZOFFSETTO:-0500
TZNAME:CDT
DTSTART:20250309T080000
END:DAYLIGHT
BEGIN:STANDARD
TZOFFSETFROM:-0500
TZOFFSETTO:-0600
TZNAME:CST
DTSTART:20251102T070000
END:STANDARD
BEGIN:DAYLIGHT
TZOFFSETFROM:-0600
TZOFFSETTO:-0500
TZNAME:CDT
DTSTART:20260308T080000
END:DAYLIGHT
BEGIN:STANDARD
TZOFFSETFROM:-0500
TZOFFSETTO:-0600
TZNAME:CST
DTSTART:20261101T070000
END:STANDARD
BEGIN:DAYLIGHT
TZOFFSETFROM:-0600
TZOFFSETTO:-0500
TZNAME:CDT
DTSTART:20270314T080000
END:DAYLIGHT
BEGIN:STANDARD
TZOFFSETFROM:-0500
TZOFFSETTO:-0600
TZNAME:CST
DTSTART:20271107T070000
END:STANDARD
END:VTIMEZONE
BEGIN:VTIMEZONE
TZID:America/Los_Angeles
BEGIN:DAYLIGHT
TZOFFSETFROM:-0800
TZOFFSETTO:-0700
TZNAME:PDT
DTSTART:20250309T100000
END:DAYLIGHT
BEGIN:STANDARD
TZOFFSETFROM:-0700
TZOFFSETTO:-0800
TZNAME:PST
DTSTART:20251102T090000
END:STANDARD
BEGIN:DAYLIGHT
TZOFFSETFROM:-0800
TZOFFSETTO:-0700
TZNAME:PDT
DTSTART:20260308T100000
END:DAYLIGHT
BEGIN:STANDARD
TZOFFSETFROM:-0700
TZOFFSETTO:-0800
TZNAME:PST
DTSTART:20261101T090000
END:STANDARD
BEGIN:DAYLIGHT
TZOFFSETFROM:-0800
TZOFFSETTO:-0700
TZNAME:PDT
DTSTART:20270314T100000
END:DAYLIGHT
BEGIN:STANDARD
TZOFFSETFROM:-0700
TZOFFSETTO:-0800
TZNAME:PST
DTSTART:20271107T090000
END:STANDARD
END:VTIMEZONE
BEGIN:VEVENT
DTSTART;TZID=America/Chicago:20260226T110000
DTEND;TZID=America/Chicago:20260226T113000
DTSTAMP:20260421T143411
CREATED:20260113T180817Z
LAST-MODIFIED:20260213T195533Z
UID:2029-1772103600-1772105400@copelandgroupusa.com
SUMMARY:New Agent Training_NV\, UT\, CO\, ID\, MT\, WY
DESCRIPTION:Hit the Ground Running! Join us for a quick introduction into your amazing opportunity with CIG\, your FMO that TRULY values you as an Agent!\nWe will discuss:\n-Getting to know your Copeland Team\n-Contracting Process\n-Free access to the marketing tools\n-Your All-in-one customer management & quoting system\n-Your free personal consumer facing website\n-Schedule your free business training session \n9am PST\n11am CST
URL:https://copelandgroupusa.com/event/new-agent-training_nv-ut-co-id-mt-wy-3/
LOCATION:Webinar
CATEGORIES:Training Events,Webinars
ORGANIZER;CN="Joey Brignac%2C Sales Director":MAILTO:Jbrignac@copelandgroupusa.com
END:VEVENT
BEGIN:VEVENT
DTSTART;TZID=America/Los_Angeles:20260226T110000
DTEND;TZID=America/Los_Angeles:20260226T120000
DTSTAMP:20260421T143411
CREATED:20260223T172139Z
LAST-MODIFIED:20260223T172139Z
UID:2176-1772103600-1772107200@copelandgroupusa.com
SUMMARY:New Agent Training _ West Coast
DESCRIPTION:Join us to learn how to navigate the platforms and learn strategies that will help grow your business and engage your members.
URL:https://copelandgroupusa.com/event/new-agent-training-_-west-coast/
LOCATION:Webinar
CATEGORIES:Training Events,Webinars
ORGANIZER;CN="Stephanie Hughes%2C Sales Director":MAILTO:shughes@copelandgroupusa.com
END:VEVENT
BEGIN:VEVENT
DTSTART;TZID=America/Chicago:20260226T130000
DTEND;TZID=America/Chicago:20260226T140000
DTSTAMP:20260421T143411
CREATED:20260202T172912Z
LAST-MODIFIED:20260213T195502Z
UID:2087-1772110800-1772114400@copelandgroupusa.com
SUMMARY:How to Build a Package of Protection for Clients
DESCRIPTION:Presenting a Plan of Protection (POP) for U65 and Medicare eligible prospects and clients is the right thing to do! This sets agents up for greater retention and residual revenue offering time to grow their Book of Business year over year! \nREGISTER today for a virtual training on Thursday February 26th at 1p CST presented by the Queen of the Bundle\, Gaylan Hendricks. Gaylan makes it simple and shows the benefits to both your clients and your revenue. This training is beneficial to all agents! You won’t want to miss!
URL:https://copelandgroupusa.com/event/how-to-build-a-package-of-protection-for-clients/
LOCATION:Webinar
CATEGORIES:Training Events,Webinars
ORGANIZER;CN="Jan Walsh%2C Regional VP":MAILTO:JWalsh@Copelandgroupusa.com
END:VEVENT
BEGIN:VEVENT
DTSTART;TZID=America/Chicago:20260226T180000
DTEND;TZID=America/Chicago:20260226T190000
DTSTAMP:20260421T143411
CREATED:20260112T190302Z
LAST-MODIFIED:20260213T195418Z
UID:2017-1772128800-1772132400@copelandgroupusa.com
SUMMARY:New Agent Training_DFW Texas\, IL\, IN\, IA\, KS\, MO
DESCRIPTION:New Agent Welcome Meeting!\nWe will discuss:\n-Introduction: Getting to know your Copeland Team\n-Company Overview\n-Contracting Process\n-Copeland Agent Portal\n-Integrity Connect Portal\n-Personal Webpage\n-Learning Center\n-Your Monthly Set Meetings \n6pm CST
URL:https://copelandgroupusa.com/event/new-agent-training_dfw-texas-il-in-ia-ks-mo-3/
LOCATION:Webinar
CATEGORIES:Training Events,Webinars
ORGANIZER;CN="Denise Reid%2C Sales Director":MAILTO:Dreid@copelandgroupusa.com
END:VEVENT
END:VCALENDAR