BEGIN:VCALENDAR
VERSION:2.0
PRODID:-//Copeland Group USA - ECPv6.15.20//NONSGML v1.0//EN
CALSCALE:GREGORIAN
METHOD:PUBLISH
X-ORIGINAL-URL:https://copelandgroupusa.com
X-WR-CALDESC:Events for Copeland Group USA
REFRESH-INTERVAL;VALUE=DURATION:PT1H
X-Robots-Tag:noindex
X-PUBLISHED-TTL:PT1H
BEGIN:VTIMEZONE
TZID:America/Chicago
BEGIN:DAYLIGHT
TZOFFSETFROM:-0600
TZOFFSETTO:-0500
TZNAME:CDT
DTSTART:20250309T080000
END:DAYLIGHT
BEGIN:STANDARD
TZOFFSETFROM:-0500
TZOFFSETTO:-0600
TZNAME:CST
DTSTART:20251102T070000
END:STANDARD
BEGIN:DAYLIGHT
TZOFFSETFROM:-0600
TZOFFSETTO:-0500
TZNAME:CDT
DTSTART:20260308T080000
END:DAYLIGHT
BEGIN:STANDARD
TZOFFSETFROM:-0500
TZOFFSETTO:-0600
TZNAME:CST
DTSTART:20261101T070000
END:STANDARD
BEGIN:DAYLIGHT
TZOFFSETFROM:-0600
TZOFFSETTO:-0500
TZNAME:CDT
DTSTART:20270314T080000
END:DAYLIGHT
BEGIN:STANDARD
TZOFFSETFROM:-0500
TZOFFSETTO:-0600
TZNAME:CST
DTSTART:20271107T070000
END:STANDARD
END:VTIMEZONE
BEGIN:VTIMEZONE
TZID:America/Detroit
BEGIN:DAYLIGHT
TZOFFSETFROM:-0500
TZOFFSETTO:-0400
TZNAME:EDT
DTSTART:20250309T070000
END:DAYLIGHT
BEGIN:STANDARD
TZOFFSETFROM:-0400
TZOFFSETTO:-0500
TZNAME:EST
DTSTART:20251102T060000
END:STANDARD
BEGIN:DAYLIGHT
TZOFFSETFROM:-0500
TZOFFSETTO:-0400
TZNAME:EDT
DTSTART:20260308T070000
END:DAYLIGHT
BEGIN:STANDARD
TZOFFSETFROM:-0400
TZOFFSETTO:-0500
TZNAME:EST
DTSTART:20261101T060000
END:STANDARD
BEGIN:DAYLIGHT
TZOFFSETFROM:-0500
TZOFFSETTO:-0400
TZNAME:EDT
DTSTART:20270314T070000
END:DAYLIGHT
BEGIN:STANDARD
TZOFFSETFROM:-0400
TZOFFSETTO:-0500
TZNAME:EST
DTSTART:20271107T060000
END:STANDARD
END:VTIMEZONE
BEGIN:VEVENT
DTSTART;TZID=America/Chicago:20260225T090000
DTEND;TZID=America/Chicago:20260225T100000
DTSTAMP:20260421T154019
CREATED:20260211T221919Z
LAST-MODIFIED:20260213T195741Z
UID:2145-1772010000-1772013600@copelandgroupusa.com
SUMMARY:UnitedHealthOne Training and Overview Meeting
DESCRIPTION:Unlock New Opportunities with UHOne!\nYou’re invited to an exclusive broker training session designed to elevate your product knowledge\, sharpen your competitive edge\, and help you better support your clients in 2026 and beyond. \nJoin Copeland Insurance Group for an engaging and informative overview featuring Bobbi Joe Massey\, National FMO Account Executive. Discover UH One’s suite of ancillary products—both underwritten and guaranteed issue—known for strong pricing\, flexible solutions\, and exceptional customer service. \n💡 What You’ll Gain \n\nA clear understanding of UH One’s standout product lineup\nInsights to help you cross-sell effectively\nTools to boost your broker success in 2026\nDirect access to expert guidance and support\n\n✨ Don’t Miss Out! \nEmpower your clients. Strengthen your portfolio. Grow your business.\nWe look forward to seeing you on the 25th!
URL:https://copelandgroupusa.com/event/unitedhealthone-training-and-overview-meeting/
LOCATION:Webinar
CATEGORIES:Training Events,Webinars
ORGANIZER;CN="Joey Brignac%2C Sales Director":MAILTO:Jbrignac@copelandgroupusa.com
END:VEVENT
BEGIN:VEVENT
DTSTART;TZID=America/Detroit:20260225T110000
DTEND;TZID=America/Detroit:20260225T120000
DTSTAMP:20260421T154019
CREATED:20260202T171434Z
LAST-MODIFIED:20260213T195644Z
UID:2071-1772017200-1772020800@copelandgroupusa.com
SUMMARY:New Agent Training: DC\, MD\, NC\, SC\, VA
DESCRIPTION:Join us to learn how to navigate the platforms and learn strategies that will help grow your business and engage your members! \nWednesday\, February 25th at 11am EST
URL:https://copelandgroupusa.com/event/new-agent-training-dc-md-nc-sc-va/
LOCATION:Webinar
CATEGORIES:Training Events,Webinars
ORGANIZER;CN="Rob Warnock%2C Sales Director":MAILTO:Rob@copelandgroupusa.com
END:VEVENT
END:VCALENDAR