BEGIN:VCALENDAR
VERSION:2.0
PRODID:-//Copeland Group USA - ECPv6.15.20//NONSGML v1.0//EN
CALSCALE:GREGORIAN
METHOD:PUBLISH
X-WR-CALNAME:Copeland Group USA
X-ORIGINAL-URL:https://copelandgroupusa.com
X-WR-CALDESC:Events for Copeland Group USA
REFRESH-INTERVAL;VALUE=DURATION:PT1H
X-Robots-Tag:noindex
X-PUBLISHED-TTL:PT1H
BEGIN:VTIMEZONE
TZID:America/Chicago
BEGIN:DAYLIGHT
TZOFFSETFROM:-0600
TZOFFSETTO:-0500
TZNAME:CDT
DTSTART:20250309T080000
END:DAYLIGHT
BEGIN:STANDARD
TZOFFSETFROM:-0500
TZOFFSETTO:-0600
TZNAME:CST
DTSTART:20251102T070000
END:STANDARD
BEGIN:DAYLIGHT
TZOFFSETFROM:-0600
TZOFFSETTO:-0500
TZNAME:CDT
DTSTART:20260308T080000
END:DAYLIGHT
BEGIN:STANDARD
TZOFFSETFROM:-0500
TZOFFSETTO:-0600
TZNAME:CST
DTSTART:20261101T070000
END:STANDARD
BEGIN:DAYLIGHT
TZOFFSETFROM:-0600
TZOFFSETTO:-0500
TZNAME:CDT
DTSTART:20270314T080000
END:DAYLIGHT
BEGIN:STANDARD
TZOFFSETFROM:-0500
TZOFFSETTO:-0600
TZNAME:CST
DTSTART:20271107T070000
END:STANDARD
END:VTIMEZONE
BEGIN:VEVENT
DTSTART;TZID=America/Chicago:20260331T100000
DTEND;TZID=America/Chicago:20260331T113000
DTSTAMP:20260421T095148
CREATED:20260317T181301Z
LAST-MODIFIED:20260317T181301Z
UID:2243-1774951200-1774956600@copelandgroupusa.com
SUMMARY:DFW Agents_Complete Your Portfolio: Full Product Training with Manhattan Life
DESCRIPTION:
URL:https://copelandgroupusa.com/event/dfw-agents_complete-your-portfolio-full-product-training-with-manhattan-life/
LOCATION:Integrity Office Building\, 1445 Ross Ave FL 40\, Dallas\, TX\, 75202\, United States
CATEGORIES:Training Events
ORGANIZER;CN="Denise Reid%2C Sales Director":MAILTO:Dreid@copelandgroupusa.com
END:VEVENT
BEGIN:VEVENT
DTSTART;TZID=America/Chicago:20260331T100000
DTEND;TZID=America/Chicago:20260331T113000
DTSTAMP:20260421T095148
CREATED:20260325T134550Z
LAST-MODIFIED:20260325T134550Z
UID:2268-1774951200-1774956600@copelandgroupusa.com
SUMMARY:In-Person Training: Complete Your Portfolio with Manhattan Life_DFW Area Agents
DESCRIPTION:Full product training and find out why you should complete your portfolio with Manhattan Life!
URL:https://copelandgroupusa.com/event/in-person-training-complete-your-portfolio-with-manhattan-life_dfw-area-agents/
LOCATION:Webinar
CATEGORIES:Training Events
ORGANIZER;CN="Denise Reid%2C Sales Director":MAILTO:Dreid@copelandgroupusa.com
END:VEVENT
BEGIN:VEVENT
DTSTART;TZID=America/Chicago:20260331T180000
DTEND;TZID=America/Chicago:20260331T190000
DTSTAMP:20260421T095148
CREATED:20260112T190538Z
LAST-MODIFIED:20260213T194246Z
UID:2021-1774980000-1774983600@copelandgroupusa.com
SUMMARY:New Agent Training_DFW Texas\, IL\, IN\, IA\, KS\, MO
DESCRIPTION:New Agent Welcome Meeting!\nWe will discuss:\n-Introduction: Getting to know your Copeland Team\n-Company Overview\n-Contracting Process\n-Copeland Agent Portal\n-Integrity Connect Portal\n-Personal Webpage\n-Learning Center\n-Your Monthly Set Meetings \n6pm CST
URL:https://copelandgroupusa.com/event/new-agent-training_dfw-texas-il-in-ia-ks-mo-5/
LOCATION:Webinar
CATEGORIES:Training Events,Webinars
ORGANIZER;CN="Denise Reid%2C Sales Director":MAILTO:Dreid@copelandgroupusa.com
END:VEVENT
END:VCALENDAR