BEGIN:VCALENDAR
VERSION:2.0
PRODID:-//Copeland Group USA - ECPv6.15.20//NONSGML v1.0//EN
CALSCALE:GREGORIAN
METHOD:PUBLISH
X-WR-CALNAME:Copeland Group USA
X-ORIGINAL-URL:https://copelandgroupusa.com
X-WR-CALDESC:Events for Copeland Group USA
REFRESH-INTERVAL;VALUE=DURATION:PT1H
X-Robots-Tag:noindex
X-PUBLISHED-TTL:PT1H
BEGIN:VTIMEZONE
TZID:America/Denver
BEGIN:DAYLIGHT
TZOFFSETFROM:-0700
TZOFFSETTO:-0600
TZNAME:MDT
DTSTART:20240310T090000
END:DAYLIGHT
BEGIN:STANDARD
TZOFFSETFROM:-0600
TZOFFSETTO:-0700
TZNAME:MST
DTSTART:20241103T080000
END:STANDARD
BEGIN:DAYLIGHT
TZOFFSETFROM:-0700
TZOFFSETTO:-0600
TZNAME:MDT
DTSTART:20250309T090000
END:DAYLIGHT
BEGIN:STANDARD
TZOFFSETFROM:-0600
TZOFFSETTO:-0700
TZNAME:MST
DTSTART:20251102T080000
END:STANDARD
BEGIN:DAYLIGHT
TZOFFSETFROM:-0700
TZOFFSETTO:-0600
TZNAME:MDT
DTSTART:20260308T090000
END:DAYLIGHT
BEGIN:STANDARD
TZOFFSETFROM:-0600
TZOFFSETTO:-0700
TZNAME:MST
DTSTART:20261101T080000
END:STANDARD
END:VTIMEZONE
BEGIN:VEVENT
DTSTART;TZID=America/Denver:20250925T100000
DTEND;TZID=America/Denver:20250925T120000
DTSTAMP:20260421T181621
CREATED:20250902T192510Z
LAST-MODIFIED:20250902T192510Z
UID:1697-1758794400-1758801600@copelandgroupusa.com
SUMMARY:2026 DFW Aetna Training
DESCRIPTION:2026 Aetna Market-Specific Training – designed to equip you with the tools and knowledge needed for a successful AEP season.
URL:https://copelandgroupusa.com/event/2026-dfw-aetna-training/
ORGANIZER;CN="Denise Reid%2C Sales Director":MAILTO:Dreid@copelandgroupusa.com
END:VEVENT
BEGIN:VEVENT
DTSTART;TZID=America/Denver:20250925T100000
DTEND;TZID=America/Denver:20250925T140000
DTSTAMP:20260421T181621
CREATED:20250902T183802Z
LAST-MODIFIED:20250902T184410Z
UID:1646-1758794400-1758808800@copelandgroupusa.com
SUMMARY:El Paso AEP Kick Off
DESCRIPTION:
URL:https://copelandgroupusa.com/event/el-paso-aep-rollout/
ORGANIZER;CN="Javier Bermudez%2C Sales Director":MAILTO:Jbermudez@copelandgroupusa.com
END:VEVENT
BEGIN:VEVENT
DTSTART;TZID=America/Denver:20250925T150000
DTEND;TZID=America/Denver:20250925T170000
DTSTAMP:20260421T181621
CREATED:20250902T185437Z
LAST-MODIFIED:20250902T191558Z
UID:1668-1758812400-1758819600@copelandgroupusa.com
SUMMARY:2026 UHC Deep Dive_Corpus Christi
DESCRIPTION:
URL:https://copelandgroupusa.com/event/2026-uhc-deep-dive-event/
ORGANIZER;CN="Javier Bermudez%2C Sales Director":MAILTO:Jbermudez@copelandgroupusa.com
END:VEVENT
BEGIN:VEVENT
DTSTART;TZID=America/Denver:20250925T183000
DTEND;TZID=America/Denver:20250925T213000
DTSTAMP:20260421T181621
CREATED:20250902T185245Z
LAST-MODIFIED:20250902T185245Z
UID:1664-1758825000-1758835800@copelandgroupusa.com
SUMMARY:Conviva Casino Night Event
DESCRIPTION:
URL:https://copelandgroupusa.com/event/conviva-casino-night-event/
ORGANIZER;CN="Javier Bermudez%2C Sales Director":MAILTO:Jbermudez@copelandgroupusa.com
END:VEVENT
END:VCALENDAR