BEGIN:VCALENDAR
VERSION:2.0
PRODID:-//Copeland Group USA - ECPv6.15.20//NONSGML v1.0//EN
CALSCALE:GREGORIAN
METHOD:PUBLISH
X-ORIGINAL-URL:https://copelandgroupusa.com
X-WR-CALDESC:Events for Copeland Group USA
REFRESH-INTERVAL;VALUE=DURATION:PT1H
X-Robots-Tag:noindex
X-PUBLISHED-TTL:PT1H
BEGIN:VTIMEZONE
TZID:Atlantic/South_Georgia
BEGIN:STANDARD
TZOFFSETFROM:-0200
TZOFFSETTO:-0200
TZNAME:-02
DTSTART:20240101T000000
END:STANDARD
END:VTIMEZONE
BEGIN:VTIMEZONE
TZID:America/Denver
BEGIN:DAYLIGHT
TZOFFSETFROM:-0700
TZOFFSETTO:-0600
TZNAME:MDT
DTSTART:20240310T090000
END:DAYLIGHT
BEGIN:STANDARD
TZOFFSETFROM:-0600
TZOFFSETTO:-0700
TZNAME:MST
DTSTART:20241103T080000
END:STANDARD
BEGIN:DAYLIGHT
TZOFFSETFROM:-0700
TZOFFSETTO:-0600
TZNAME:MDT
DTSTART:20250309T090000
END:DAYLIGHT
BEGIN:STANDARD
TZOFFSETFROM:-0600
TZOFFSETTO:-0700
TZNAME:MST
DTSTART:20251102T080000
END:STANDARD
BEGIN:DAYLIGHT
TZOFFSETFROM:-0700
TZOFFSETTO:-0600
TZNAME:MDT
DTSTART:20260308T090000
END:DAYLIGHT
BEGIN:STANDARD
TZOFFSETFROM:-0600
TZOFFSETTO:-0700
TZNAME:MST
DTSTART:20261101T080000
END:STANDARD
END:VTIMEZONE
BEGIN:VEVENT
DTSTART;TZID=Atlantic/South_Georgia:20250918T093000
DTEND;TZID=Atlantic/South_Georgia:20250918T160000
DTSTAMP:20260421T181811
CREATED:20250902T184002Z
LAST-MODIFIED:20250902T184002Z
UID:1649-1758187800-1758211200@copelandgroupusa.com
SUMMARY:Georgia AEP Kick Off
DESCRIPTION:
URL:https://copelandgroupusa.com/event/georgia-aep-kick-off/
ORGANIZER;CN="Rob Warnock%2C Sales Director":MAILTO:Rob@copelandgroupusa.com
END:VEVENT
BEGIN:VEVENT
DTSTART;TZID=America/Denver:20250918T110000
DTEND;TZID=America/Denver:20250918T140000
DTSTAMP:20260421T181811
CREATED:20250902T185344Z
LAST-MODIFIED:20250902T185344Z
UID:1666-1758193200-1758204000@copelandgroupusa.com
SUMMARY:2026 Wellcare AEP Kick Off
DESCRIPTION:
URL:https://copelandgroupusa.com/event/2026-wellcare-aep-kick-off/
ORGANIZER;CN="Javier Bermudez%2C Sales Director":MAILTO:Jbermudez@copelandgroupusa.com
END:VEVENT
BEGIN:VEVENT
DTSTART;TZID=America/Denver:20250918T110000
DTEND;TZID=America/Denver:20250918T150000
DTSTAMP:20260421T181811
CREATED:20250902T185016Z
LAST-MODIFIED:20250902T185016Z
UID:1659-1758193200-1758207600@copelandgroupusa.com
SUMMARY:Miami Florida AEP Kick Off
DESCRIPTION:
URL:https://copelandgroupusa.com/event/miami-florida-aep-kick-off/
ORGANIZER;CN="Ana Garcia":MAILTO:AGarcia@copelandgroupusa.com
END:VEVENT
END:VCALENDAR