BEGIN:VCALENDAR
VERSION:2.0
PRODID:-//Copeland Group USA - ECPv6.15.20//NONSGML v1.0//EN
CALSCALE:GREGORIAN
METHOD:PUBLISH
X-WR-CALNAME:Copeland Group USA
X-ORIGINAL-URL:https://copelandgroupusa.com
X-WR-CALDESC:Events for Copeland Group USA
REFRESH-INTERVAL;VALUE=DURATION:PT1H
X-Robots-Tag:noindex
X-PUBLISHED-TTL:PT1H
BEGIN:VTIMEZONE
TZID:America/Denver
BEGIN:DAYLIGHT
TZOFFSETFROM:-0700
TZOFFSETTO:-0600
TZNAME:MDT
DTSTART:20240310T090000
END:DAYLIGHT
BEGIN:STANDARD
TZOFFSETFROM:-0600
TZOFFSETTO:-0700
TZNAME:MST
DTSTART:20241103T080000
END:STANDARD
BEGIN:DAYLIGHT
TZOFFSETFROM:-0700
TZOFFSETTO:-0600
TZNAME:MDT
DTSTART:20250309T090000
END:DAYLIGHT
BEGIN:STANDARD
TZOFFSETFROM:-0600
TZOFFSETTO:-0700
TZNAME:MST
DTSTART:20251102T080000
END:STANDARD
BEGIN:DAYLIGHT
TZOFFSETFROM:-0700
TZOFFSETTO:-0600
TZNAME:MDT
DTSTART:20260308T090000
END:DAYLIGHT
BEGIN:STANDARD
TZOFFSETFROM:-0600
TZOFFSETTO:-0700
TZNAME:MST
DTSTART:20261101T080000
END:STANDARD
END:VTIMEZONE
BEGIN:VEVENT
DTSTART;TZID=America/Denver:20250905T090000
DTEND;TZID=America/Denver:20250905T100000
DTSTAMP:20260421T181622
CREATED:20250902T184712Z
LAST-MODIFIED:20250902T184712Z
UID:1657-1757062800-1757066400@copelandgroupusa.com
SUMMARY:First Friday Virtual Event
DESCRIPTION:
URL:https://copelandgroupusa.com/event/first-friday-virtual-event-2/
LOCATION:Webinar
ORGANIZER;CN="Jan Walsh%2C Regional VP":MAILTO:JWalsh@Copelandgroupusa.com
END:VEVENT
BEGIN:VEVENT
DTSTART;TZID=America/Denver:20250905T170000
DTEND;TZID=America/Denver:20250905T220000
DTSTAMP:20260421T181622
CREATED:20250902T190010Z
LAST-MODIFIED:20250902T190010Z
UID:1676-1757091600-1757109600@copelandgroupusa.com
SUMMARY:San Antonio AEP Kick Off
DESCRIPTION:
URL:https://copelandgroupusa.com/event/san-antonio-aep-kick-off/
ORGANIZER;CN="Javier Bermudez%2C Sales Director":MAILTO:Jbermudez@copelandgroupusa.com
END:VEVENT
END:VCALENDAR