BEGIN:VCALENDAR
VERSION:2.0
PRODID:-//Copeland Group USA - ECPv6.15.20//NONSGML v1.0//EN
CALSCALE:GREGORIAN
METHOD:PUBLISH
X-ORIGINAL-URL:https://copelandgroupusa.com
X-WR-CALDESC:Events for Copeland Group USA
REFRESH-INTERVAL;VALUE=DURATION:PT1H
X-Robots-Tag:noindex
X-PUBLISHED-TTL:PT1H
BEGIN:VTIMEZONE
TZID:Pacific/Honolulu
BEGIN:STANDARD
TZOFFSETFROM:-1000
TZOFFSETTO:-1000
TZNAME:HST
DTSTART:20240101T000000
END:STANDARD
END:VTIMEZONE
BEGIN:VEVENT
DTSTART;TZID=Pacific/Honolulu:20250805T130000
DTEND;TZID=Pacific/Honolulu:20250805T140000
DTSTAMP:20260421T194326
CREATED:20250729T152607Z
LAST-MODIFIED:20250729T152607Z
UID:1587-1754398800-1754402400@copelandgroupusa.com
SUMMARY:August HI Agent Workshops
DESCRIPTION:As part of our ongoing support to help agents grow their business\, Copeland will continue monthly AGENT WORKSHOPS for Hawaii Copeland agents.\nEvery Tuesday for the month of August.
URL:https://copelandgroupusa.com/event/august-hi-agent-workshops/
LOCATION:Webinar
ORGANIZER;CN="Jan Walsh%2C Regional VP":MAILTO:JWalsh@Copelandgroupusa.com
END:VEVENT
END:VCALENDAR